BEGIN:VCALENDAR
VERSION:2.0
PRODID:-//WP EVENT Manager Ical//NONSGML Events//EN
CALSCALE:GREGORIAN
BEGIN:VTIMEZONE
TZID:Asia/Kolkata
BEGIN:STANDARD
DTSTART:19700101T000000
TZOFFSETFROM:+0530
TZOFFSETTO:+0530
END:STANDARD
END:VTIMEZONE
BEGIN:VEVENT
UID:69eaaa6b9499c@thewarrioralliance.org
DTSTAMP:20260423T232531Z
DTSTART;TZID=Asia/Kolkata:20260519T110000
DTEND;TZID=Asia/Kolkata:20260519T120000
LOCATION:Online
SUMMARY:WorkSource Cobb Information Session
DESCRIPTION:
END:VEVENT
END:VCALENDAR