BEGIN:VCALENDAR
VERSION:2.0
PRODID:-//WP EVENT Manager Ical//NONSGML Events//EN
CALSCALE:GREGORIAN
BEGIN:VTIMEZONE
TZID:Asia/Kolkata
BEGIN:STANDARD
DTSTART:19700101T000000
TZOFFSETFROM:+0530
TZOFFSETTO:+0530
END:STANDARD
END:VTIMEZONE
BEGIN:VEVENT
UID:69ea805099f53@thewarrioralliance.org
DTSTAMP:20260423T202552Z
DTSTART;TZID=Asia/Kolkata:20260516T093000
DTEND;TZID=Asia/Kolkata:20260516T140000
LOCATION:St James United Methodist Church, Peachtree Dunwoody Road Northeast, Atlanta, GA
SUMMARY:Wheelchair Football Clinic (Copy)
DESCRIPTION:We are excited to host our two-part Wheelchair Football Clinic! Open to athletes middle school age and up, including veterans, this clinic welcomes all skill levels with no experience required. Led by a certified coach, athletes will learn the fundamentals of wheelchair football through conditioning, drills, plays, and technique.   We are excited to launch an official wheelchair football team this season, and this clinic is the perfect opportunity to try out this exciting new adaptive sport. Come out and join us!Session 1:Saturday, April 18th9:30 am &#8211; 2 pmJason T. Harper Event Center95 Lake Dow RoadMcDonough, GARegister: Event Registration &#8211; BlazeSports AmericaSession 2:Saturday, May 16th9:30 am &#8211; 2 pmSt. James UMC4400 Peachtree Dunwoody RoadAtlanta, GAEvent Registration &#8211; BlazeSports America
END:VEVENT
END:VCALENDAR