BEGIN:VCALENDAR
VERSION:2.0
PRODID:-//WP EVENT Manager Ical//NONSGML Events//EN
CALSCALE:GREGORIAN
BEGIN:VTIMEZONE
TZID:Asia/Kolkata
BEGIN:STANDARD
DTSTART:19700101T000000
TZOFFSETFROM:+0530
TZOFFSETTO:+0530
END:STANDARD
END:VTIMEZONE
BEGIN:VEVENT
UID:69ea8084c94d2@thewarrioralliance.org
DTSTAMP:20260423T202644Z
DTSTART;TZID=Asia/Kolkata:20260425T080000
DTEND;TZID=Asia/Kolkata:20260425T080000
LOCATION:Cherokee Rock Village, 2000 County Road 70, Leesburg, AL
SUMMARY:Vets Climb – Alabama Pot Luck Climbing Weekend
DESCRIPTION:VetsClimb is part of Catalyst Sports’ mission to create access to adventure for people with disabilities. VetsClimb offers a supportive, team-centered environment where Veterans with disabilities, seen or unseen, can build strength, confidence, and connection through climbing—no prior experience required. Participants must have veteran status. Our big climb this year is the Camp and Climb in Sandrock AL (24-26 April 2026)Event Registration Steps Step 1: Create a Neon account Visit: https://www.catalystsports.org/vetsclimbClick New AccountCreate a Participant Account Step 2: Complete all required questions in the account setup Step 3: Register for the event (there will be a $25 fee) Return to: https://www.catalystsports.org/vetsclimbScroll by date to find the event Click Register Step 4: Complete the event registration https://www.catalystsports.org/vetsclimbhttps://www.catalystsports.org/vetsclimbMORE Info
END:VEVENT
END:VCALENDAR