BEGIN:VCALENDAR
VERSION:2.0
PRODID:-//WP EVENT Manager Ical//NONSGML Events//EN
CALSCALE:GREGORIAN
BEGIN:VTIMEZONE
TZID:Asia/Kolkata
BEGIN:STANDARD
DTSTART:19700101T000000
TZOFFSETFROM:+0530
TZOFFSETTO:+0530
END:STANDARD
END:VTIMEZONE
BEGIN:VEVENT
UID:69ea7fda23614@thewarrioralliance.org
DTSTAMP:20260423T202354Z
DTSTART;TZID=Asia/Kolkata:20260419T161414
DTEND;TZID=Asia/Kolkata:20260425T161414
LOCATION:Online
SUMMARY:National Volunteer Week
DESCRIPTION:National Volunteer Week takes place April 19–25, making this a powerful time to step forward through service and volunteer for a mission you resonate with, while carrying on the legacy of service of our veterans and fallen heroes. We have a handful of upEARTH MONTH | APRIL 2026 Earth Month is a nationwide opportunity to come together in service and make a tangible difference where it matters most. Throughout April, volunteers will support hands-on projects focused on community revitalization, conservation, and caring for the places we call home. By volunteering during Earth Month, you’ll serve alongside veterans who are leading meaningful impact in their communities. Click the link below to learn more and find an Earth Month project near you.SIGN UP FOR A PROJECT NEAR YOUTHE HONOR PROJECT | MEMORIAL DAY WEEKEND  This Memorial Day, you’re invited to honor fallen heroes at over 60 cemeteries nationwide as a TMF volunteer. Through The Honor Project, volunteers place hand-crafted commemorative tokens at interment locations, pausing to reflect on the sacrifices of our nation’s most courageous men and women. Join us in standing in for battle buddies and surviving family members to ensure every fallen hero is honored and remembered. Click the link below to register as a volunteer at a participating cemetery.REGISTER TODAY
END:VEVENT
END:VCALENDAR